Workbook

Sheet F13.PT
F2: REQUISITOS GERAIS PARA ENSAIOS DE PROFICIÊNCIA | M2: Nota: Esse formulário deve ser enviado para o participante com as abas de Registro e Controle financeiro de modo oculto.
F3: Informações de formulário
F4: Formulário de Inscrição | J4: N° Doc: | K4: F13.PT
J5: Revisão: | K5: 22
J6: Data de Revisão: | K6: 46055
J7: Data de validade: | K7: 46420
F8: Aprovado por: Ana Caroline
B10: Informação do registro
B11: Registro: | F11: Data de emissão: | I11: Responsável:
B13: Controle de alteração de registro:
B14: Registro anterior: | G14: Motivo:
B16: Controle de revisão de formulário:
B17: Número | D17: Data | F17: Descrição | H17: Motivo | J17: Aprovado por:
B18: 22 | D18: 46055 | F18: 1) Atualização do contato telefônico; 2) Atualização do modelo de formulário presente no item 12. | H18: 1) Número anterior foi cancelado; 2) Devido a atualização do F10. | J18: Ana Caroline
B20: Procedimento de referência: P4.2; P6.4; P7.1; P7.4; P7.6; P7.7

Sheet Formulário de inscrição
F2: Site: www.qualabor.com.br
F3: Contato comercial: contato@qualabor.com.br
F4: Contato técnico: pep@qualabor.com.br
F5: Telefone/Whatsapp: +55 (41) 99799-2928
B8: FORMULÁRIO DE INSCRIÇÃO
B9: (Rodada aberta)
B10: Programa de ensaio de proficiência: Determinação de Metais em Líquidos por Espectrometria
B11: Código do programa: DMS-2026/2027
B12: Taxa de inscrição: (R$) 3.240,00
B14: Envie o formulário preenchido para contato@qualabor.com.br no formato original do documento (Excel)
B15: Todos os campos marcados com * são de preenchimento obrigatório
E17: Data de inscrição: | G17: *
B18: Informações Empresariais
B19: Razão Social: | D19: *
B21: Nome Fantasia: | D21: *
B23: CNPJ: | D23: *
B25: Rua, N° e complemento: | D25: *
B27: Bairro: | D27: *
B29: Cidade: | D29: *
B31: UF: | D31: *
B33: CEP: | D33: *
B35: Endereço para enviar o item de ensaio (se diferente do endereço da empresa): | D35: *
B37: Dados para Contato
B38: Os documentos referentes ao programa serão enviados somente para os contatos informados neste formulário, se precisar adicione mais de um telefone, e-mail e pessoa.
B39: Dados do Contato Técnico:
B40: Nome(s) Completo(s) do(s) Contato(s) Técnico(s): | D40: *
B42: Telefone(s) para Contato: | D42: *
B44: E-mail(s): | D44: *
B46: Dados do Contato Financeiro:
B47: Nome do responsável: | D47: *
B49: Número(s) de telefone: | D49: *
B51: E-mail(s): | D51: *
B53: Autorização de divulgação em relatórios
B55: No relatório do programa será divulgada a lista dos participantes do programa, para que o nome da sua empresa apareça nesta lista é necessária à autorização desta divulgação. Independente da Autorização ou não, a relação entre nome da empresa e o seu resultado será codificado e somente a Qualabor e a própria empresa participante poderá identifica-lo.
B57: Você autoriza a divulgação do nome da empresa? (Sim/Não) | G57: *
B59: Autorização de divulgação em ações de marketing
B61: Desejamos saber se podemos utilizar o nome da sua empresa como nosso cliente em possíveis publicações/divulgações sobre nossos serviços. Lembramos que nunca será relacionado o nome da sua empresa com os resultados obtidos.
B63: Você autoriza o uso do nome e logo da sua empresa em publicações da Qualabor? (Sim/Não)
B65: Como Conheceu a Qualabor?
B66: (Mídia Social, Website, Indicação, EPTIS, Contato telefônico, E-mail, Google, Outro)
...

Sheet Controle financeiro
Z1: Necessidades da Aplicação | AE1: É tecnicamente adequado?
B2: Data de Inscrição | C2: Razão Social | D2: Nome Fantasia | E2: CNPJ | F2: Contato Técnico | G2: Telefone | H2: E-mail | I2: Endereço | J2: Bairro | K2: Cidade | L2: UF | M2: CEP | N2: CEP envio | O2: Resp. Pagamento | P2: Telefone Cobrança | Q2: E-mail Cobrança | R2: Divulgação Relatório | S2: Divulgação MKT | T2: Como Soube | U2: Acreditada? | V2: Orgão Acreditador | W2: Nº da Acreditação | X2: Equipamentos | Y2: Método | Z2: Manutenção de acreditação | AA2: Extensão de escopo | AB2: Primeira acreditação | AC2: Outros | AD2: Qual? | AE2: Sim | AF2: Não | AG2: Incerteza/Valor | AH2: Incerteza/Unidade
A3: Rodada Aberta | B3: ='Formulário de inscrição'!H17 -> 0 | C3: ='Formulário de inscrição'!E19 -> 0 | D3: ='Formulário de inscrição'!E21 -> 0 | E3: ='Formulário de inscrição'!E23 -> 0 | F3: ='Formulário de inscrição'!E40 -> 0 | G3: ='Formulário de inscrição'!E42 -> 0 | H3: ='Formulário de inscrição'!E44 -> 0 | I3: ='Formulário de inscrição'!E25 -> 0 | J3: ='Formulário de inscrição'!E27 -> 0 | K3: ='Formulário de inscrição'!E29 -> 0 | L3: ='Formulário de inscrição'!E31 -> 0 | M3: ='Formulário de inscrição'!E33 -> 0 | N3: ='Formulário de inscrição'!E35 -> 0 | O3: ='Formulário de inscrição'!E47 -> 0 | P3: ='Formulário de inscrição'!E49 -> 0 | Q3: ='Formulário de inscrição'!E51 -> 0 | R3: ='Formulário de inscrição'!H57 -> 0 | S3: ='Formulário de inscrição'!H63 -> 0 | T3: ='Formulário de inscrição'!H66 -> 0 | U3: ='Formulário de inscrição'!H70 -> 0 | V3: ='Formulário de inscrição'!H73 -> 0 | W3: ='Formulário de inscrição'!H76 -> 0 | X3: ='Formulário de inscrição'!H79 -> 0 | Y3: ='Formulário de inscrição'!H81 -> 0 | AG3: ='Formulário de inscrição'!H92 -> 0 | AH3: ='Formulário de inscrição'!H94 -> 0
AO4: FALSE | AP4: FALSE | AQ4: FALSE | AR4: FALSE | AS4: FALSE | AT4: FALSE | AU4: FALSE | AV4: FALSE | AW4: FALSE
AO7: =IF(AO4=TRUE,"Facebook",IF(AP4=TRUE,"EPTIS",IF(AQ4=TRUE,"Carta",IF(AR4=TRUE,"Contato Telefônico",IF(AS4=TRUE,"Indicação",IF(AT4=TRUE,"E-mail",IF(AU4=TRUE,"Google",IF(AV4=TRUE,"Site Qualabor",IF(AW4=TRUE,"Outros"))))))))) -> FALSE
AO9: Dimensional de colchão | AP9: Indentação | AQ9: Rolagem | AR9: Análise Interna
AO10: FALSE | AP10: FALSE | AQ10: FALSE | AR10: FALSE
